Package: tRanslatome Version: 1.47.0 Command: /Library/Frameworks/R.framework/Resources/bin/R CMD build --keep-empty-dirs --no-resave-data tRanslatome StartedAt: 2025-10-10 17:57:52 -0400 (Fri, 10 Oct 2025) EndedAt: 2025-10-10 17:58:33 -0400 (Fri, 10 Oct 2025) EllapsedTime: 40.5 seconds RetCode: 0 Status: OK PackageFile: tRanslatome_1.47.0.tar.gz PackageFileSize: 936 KiB