Package: tRanslatome Version: 1.47.0 Command: rm -rf tRanslatome.buildbin-libdir && mkdir tRanslatome.buildbin-libdir && /Users/biocbuild/BBS/utils/build-universal.sh tRanslatome_1.47.0.tar.gz /Library/Frameworks/R.framework/Resources/bin/R tRanslatome.buildbin-libdir StartedAt: 2025-10-10 23:00:52 -0400 (Fri, 10 Oct 2025) EndedAt: 2025-10-10 23:01:10 -0400 (Fri, 10 Oct 2025) EllapsedTime: 18.4 seconds RetCode: 0 Status: OK PackageFile: tRanslatome_1.47.0.tgz PackageFileSize: 1.318 MiB