Package: tLOH Version: 1.17.0 Command: /home/biocbuild/bbs-3.22-bioc/R/bin/R CMD INSTALL tLOH StartedAt: 2025-10-27 15:43:48 -0400 (Mon, 27 Oct 2025) EndedAt: 2025-10-27 15:44:33 -0400 (Mon, 27 Oct 2025) EllapsedTime: 45.1 seconds RetCode: 0 Status: OK