Package: tLOH Version: 1.17.0 Command: /Library/Frameworks/R.framework/Resources/bin/R CMD build --keep-empty-dirs --no-resave-data tLOH StartedAt: 2025-10-28 19:03:21 -0400 (Tue, 28 Oct 2025) EndedAt: 2025-10-28 19:04:43 -0400 (Tue, 28 Oct 2025) EllapsedTime: 82.2 seconds RetCode: 0 Status: OK PackageFile: tLOH_1.17.0.tar.gz PackageFileSize: 2.44 MiB