Package: tLOH Version: 1.17.0 Command: rm -rf tLOH.buildbin-libdir && mkdir tLOH.buildbin-libdir && /Users/biocbuild/BBS/utils/build-universal.sh tLOH_1.17.0.tar.gz /Library/Frameworks/R.framework/Resources/bin/R tLOH.buildbin-libdir StartedAt: 2025-10-28 02:40:40 -0400 (Tue, 28 Oct 2025) EndedAt: 2025-10-28 02:41:44 -0400 (Tue, 28 Oct 2025) EllapsedTime: 64.4 seconds RetCode: 0 Status: OK PackageFile: tLOH_1.17.0.tgz PackageFileSize: 2.507 MiB