Package: synergyfinder Version: 3.17.0 Command: /Library/Frameworks/R.framework/Resources/bin/R CMD INSTALL synergyfinder StartedAt: 2025-10-16 15:38:56 -0400 (Thu, 16 Oct 2025) EndedAt: 2025-10-16 15:39:27 -0400 (Thu, 16 Oct 2025) EllapsedTime: 31.7 seconds RetCode: 0 Status: OK