Package: synergyfinder Version: 3.17.0 Command: rm -rf synergyfinder.buildbin-libdir && mkdir synergyfinder.buildbin-libdir && /Users/biocbuild/BBS/utils/build-universal.sh synergyfinder_3.17.0.tar.gz /Library/Frameworks/R.framework/Resources/bin/R synergyfinder.buildbin-libdir StartedAt: 2025-10-10 22:59:55 -0400 (Fri, 10 Oct 2025) EndedAt: 2025-10-10 22:59:59 -0400 (Fri, 10 Oct 2025) EllapsedTime: 4.1 seconds RetCode: 0 Status: OK PackageFile: synergyfinder_3.17.0.tgz PackageFileSize: 3.813 MiB