Package: synergyfinder Version: 3.17.0 Maintainer: Shuyu Zheng MaintainerEmail: shuyu.zheng at helsinki.fi git_url: https://git.bioconductor.org/packages/synergyfinder git_branch: devel git_last_commit: 203573c git_last_commit_date: 2025-04-15 11:05:14 -0400 (Tue, 15 Apr 2025)