Package: switchde Version: 1.35.0 Command: /home/biocbuild/bbs-3.22-bioc/R/bin/R CMD INSTALL switchde StartedAt: 2025-10-19 15:32:57 -0400 (Sun, 19 Oct 2025) EndedAt: 2025-10-19 15:33:23 -0400 (Sun, 19 Oct 2025) EllapsedTime: 25.5 seconds RetCode: 0 Status: OK