Package: switchde Version: 1.35.0 Command: /home/biocbuild/bbs-3.22-bioc/R/bin/R CMD build --keep-empty-dirs --no-resave-data --md5 switchde StartedAt: 2025-10-19 20:24:18 -0400 (Sun, 19 Oct 2025) EndedAt: 2025-10-19 20:24:59 -0400 (Sun, 19 Oct 2025) EllapsedTime: 41.0 seconds RetCode: 0 Status: OK PackageFile: switchde_1.35.0.tar.gz PackageFileSize: 1007 KiB