Package: switchde Version: 1.35.0 Command: rm -rf switchde.buildbin-libdir && mkdir switchde.buildbin-libdir && /Users/biocbuild/BBS/utils/build-universal.sh switchde_1.35.0.tar.gz /Library/Frameworks/R.framework/Resources/bin/R switchde.buildbin-libdir StartedAt: 2025-10-19 23:18:26 -0400 (Sun, 19 Oct 2025) EndedAt: 2025-10-19 23:18:38 -0400 (Sun, 19 Oct 2025) EllapsedTime: 11.2 seconds RetCode: 0 Status: OK PackageFile: switchde_1.35.0.tgz PackageFileSize: 1.075 MiB