Package: switchBox Version: 1.45.0 Command: /home/biocbuild/R/R/bin/R CMD INSTALL switchBox StartedAt: 2025-10-16 21:10:34 -0000 (Thu, 16 Oct 2025) EndedAt: 2025-10-16 21:11:00 -0000 (Thu, 16 Oct 2025) EllapsedTime: 26.0 seconds RetCode: 0 Status: OK