Package: switchBox Version: 1.45.0 Command: /home/biocbuild/R/R/bin/R CMD build --keep-empty-dirs --no-resave-data switchBox StartedAt: 2025-10-17 05:05:02 -0000 (Fri, 17 Oct 2025) EndedAt: 2025-10-17 05:05:14 -0000 (Fri, 17 Oct 2025) EllapsedTime: 12.0 seconds RetCode: 0 Status: OK PackageFile: switchBox_1.45.0.tar.gz PackageFileSize: 462.9 KiB