Package: switchBox Version: 1.45.0 Command: /home/biocbuild/bbs-3.22-bioc/R/bin/R CMD INSTALL switchBox StartedAt: 2025-10-19 15:04:50 -0400 (Sun, 19 Oct 2025) EndedAt: 2025-10-19 15:05:03 -0400 (Sun, 19 Oct 2025) EllapsedTime: 12.5 seconds RetCode: 0 Status: OK