Package: switchBox Version: 1.45.0 Command: /Library/Frameworks/R.framework/Resources/bin/R CMD build --keep-empty-dirs --no-resave-data switchBox StartedAt: 2025-10-19 17:53:14 -0400 (Sun, 19 Oct 2025) EndedAt: 2025-10-19 17:53:20 -0400 (Sun, 19 Oct 2025) EllapsedTime: 6.1 seconds RetCode: 0 Status: OK PackageFile: switchBox_1.45.0.tar.gz PackageFileSize: 471.1 KiB