Package: switchBox Version: 1.45.0 Command: rm -rf switchBox.buildbin-libdir && mkdir switchBox.buildbin-libdir && /Users/biocbuild/BBS/utils/build-universal.sh switchBox_1.45.0.tar.gz /Library/Frameworks/R.framework/Resources/bin/R switchBox.buildbin-libdir StartedAt: 2025-10-20 23:19:24 -0400 (Mon, 20 Oct 2025) EndedAt: 2025-10-20 23:19:27 -0400 (Mon, 20 Oct 2025) EllapsedTime: 3.1 seconds RetCode: 0 Status: OK PackageFile: switchBox_1.45.0.tgz PackageFileSize: 643.5 KiB