Package: svaRetro Version: 1.15.1 Command: /home/biocbuild/bbs-3.22-bioc/R/bin/R CMD check --install=check:svaRetro.install-out.txt --library=/home/biocbuild/bbs-3.22-bioc/R/site-library --timings svaRetro_1.15.1.tar.gz StartedAt: 2025-10-04 04:54:47 -0400 (Sat, 04 Oct 2025) EndedAt: 2025-10-04 05:01:01 -0400 (Sat, 04 Oct 2025) EllapsedTime: 373.5 seconds RetCode: 0 Status: OK CheckDir: svaRetro.Rcheck Warnings: 0