Package: svaRetro Version: 1.15.1 Command: /Library/Frameworks/R.framework/Resources/bin/R CMD INSTALL svaRetro StartedAt: 2025-10-03 15:41:55 -0400 (Fri, 03 Oct 2025) EndedAt: 2025-10-03 15:42:50 -0400 (Fri, 03 Oct 2025) EllapsedTime: 54.6 seconds RetCode: 0 Status: OK