Package: svaRetro Version: 1.15.1 Command: /Library/Frameworks/R.framework/Resources/bin/R CMD check --install=check:svaRetro.install-out.txt --library=/Library/Frameworks/R.framework/Resources/library --no-vignettes --timings svaRetro_1.15.1.tar.gz StartedAt: 2025-10-03 22:02:43 -0400 (Fri, 03 Oct 2025) EndedAt: 2025-10-03 22:04:53 -0400 (Fri, 03 Oct 2025) EllapsedTime: 129.8 seconds RetCode: 0 Status: OK CheckDir: svaRetro.Rcheck Warnings: 0