Package: svaRetro Version: 1.15.1 Command: /Library/Frameworks/R.framework/Resources/bin/R CMD build --keep-empty-dirs --no-resave-data svaRetro StartedAt: 2025-10-03 17:52:44 -0400 (Fri, 03 Oct 2025) EndedAt: 2025-10-03 17:53:14 -0400 (Fri, 03 Oct 2025) EllapsedTime: 30.4 seconds RetCode: 0 Status: OK PackageFile: svaRetro_1.15.1.tar.gz PackageFileSize: 1.534 MiB