Package: svaNUMT Version: 1.15.1 Command: /home/biocbuild/R/R/bin/R CMD INSTALL svaNUMT StartedAt: 2025-10-23 21:16:46 -0000 (Thu, 23 Oct 2025) EndedAt: 2025-10-23 21:17:37 -0000 (Thu, 23 Oct 2025) EllapsedTime: 50.7 seconds RetCode: 0 Status: OK