Package: svaNUMT Version: 1.15.1 Command: /home/biocbuild/R/R/bin/R CMD check --install=check:svaNUMT.install-out.txt --library=/home/biocbuild/R/R/site-library --no-vignettes --timings svaNUMT_1.15.1.tar.gz StartedAt: 2025-10-17 14:18:00 -0000 (Fri, 17 Oct 2025) EndedAt: 2025-10-17 14:24:59 -0000 (Fri, 17 Oct 2025) EllapsedTime: 418.3 seconds RetCode: 0 Status: OK CheckDir: svaNUMT.Rcheck Warnings: 0