Package: svaNUMT Version: 1.15.1 Command: /home/biocbuild/R/R/bin/R CMD build --keep-empty-dirs --no-resave-data svaNUMT StartedAt: 2025-10-21 03:36:07 -0000 (Tue, 21 Oct 2025) EndedAt: 2025-10-21 03:37:45 -0000 (Tue, 21 Oct 2025) EllapsedTime: 98.0 seconds RetCode: 0 Status: OK PackageFile: svaNUMT_1.15.1.tar.gz PackageFileSize: 798.1 KiB