Package: svaNUMT Version: 1.15.1 Command: F:\biocbuild\bbs-3.22-bioc\R\bin\R.exe CMD check --no-multiarch --install=check:svaNUMT.install-out.txt --library=F:\biocbuild\bbs-3.22-bioc\R\library --no-vignettes --timings svaNUMT_1.15.1.tar.gz StartedAt: 2025-08-15 08:35:15 -0400 (Fri, 15 Aug 2025) EndedAt: 2025-08-15 08:41:29 -0400 (Fri, 15 Aug 2025) EllapsedTime: 373.9 seconds RetCode: 0 Status: OK CheckDir: svaNUMT.Rcheck Warnings: 0