Package: svaNUMT Version: 1.15.1 Command: /Library/Frameworks/R.framework/Resources/bin/R CMD check --install=check:svaNUMT.install-out.txt --library=/Library/Frameworks/R.framework/Resources/library --no-vignettes --timings svaNUMT_1.15.1.tar.gz StartedAt: 2025-09-29 21:58:57 -0400 (Mon, 29 Sep 2025) EndedAt: 2025-09-29 22:00:56 -0400 (Mon, 29 Sep 2025) EllapsedTime: 118.7 seconds RetCode: 0 Status: OK CheckDir: svaNUMT.Rcheck Warnings: 0