Package: svaNUMT Version: 1.15.1 Command: rm -rf svaNUMT.buildbin-libdir && mkdir svaNUMT.buildbin-libdir && /Users/biocbuild/BBS/utils/build-universal.sh svaNUMT_1.15.1.tar.gz /Library/Frameworks/R.framework/Resources/bin/R svaNUMT.buildbin-libdir StartedAt: 2025-09-30 22:58:26 -0400 (Tue, 30 Sep 2025) EndedAt: 2025-09-30 22:58:43 -0400 (Tue, 30 Sep 2025) EllapsedTime: 17.4 seconds RetCode: 0 Status: OK PackageFile: svaNUMT_1.15.1.tgz PackageFileSize: 755 KiB