Package: survtype Version: 1.25.0 Maintainer: Dongmin Jung MaintainerEmail: dmdmjung at gmail.com git_url: https://git.bioconductor.org/packages/survtype git_branch: devel git_last_commit: 169cc78 git_last_commit_date: 2025-04-15 11:42:59 -0400 (Tue, 15 Apr 2025)