Package: survClust Version: 1.3.0 Command: rm -rf survClust.buildbin-libdir && mkdir survClust.buildbin-libdir && F:\biocbuild\bbs-3.22-bioc\R\bin\R.exe CMD INSTALL --build --library=survClust.buildbin-libdir survClust_1.3.0.tar.gz StartedAt: 2025-08-15 11:26:53 -0400 (Fri, 15 Aug 2025) EndedAt: 2025-08-15 11:27:33 -0400 (Fri, 15 Aug 2025) EllapsedTime: 39.9 seconds RetCode: 0 Status: OK PackageFile: survClust_1.3.0.zip PackageFileSize: 982.9 KiB