Package: survClust Version: 1.4.0 Command: /home/biocbuild/bbs-3.22-bioc/R/bin/R CMD check --install=check:survClust.install-out.txt --library=/home/biocbuild/bbs-3.22-bioc/R/site-library --timings survClust_1.4.0.tar.gz StartedAt: 2025-11-14 04:48:45 -0500 (Fri, 14 Nov 2025) EndedAt: 2025-11-14 04:51:38 -0500 (Fri, 14 Nov 2025) EllapsedTime: 172.2 seconds RetCode: 0 Status: WARNINGS CheckDir: survClust.Rcheck Warnings: 1