Package: surfaltr Version: 1.15.0 Command: chmod a+r surfaltr -R && F:\biocbuild\bbs-3.22-bioc\R\bin\R.exe CMD build --keep-empty-dirs --no-resave-data surfaltr StartedAt: 2025-08-14 23:38:44 -0400 (Thu, 14 Aug 2025) EndedAt: 2025-08-14 23:39:30 -0400 (Thu, 14 Aug 2025) EllapsedTime: 46.3 seconds RetCode: 0 Status: OK PackageFile: surfaltr_1.15.0.tar.gz PackageFileSize: 3.051 MiB