Package: surfaltr Version: 1.15.0 Command: /Library/Frameworks/R.framework/Resources/bin/R CMD INSTALL surfaltr StartedAt: 2025-10-20 15:11:05 -0400 (Mon, 20 Oct 2025) EndedAt: 2025-10-20 15:11:12 -0400 (Mon, 20 Oct 2025) EllapsedTime: 7.6 seconds RetCode: 0 Status: OK