Package: surfaltr Version: 1.15.0 Command: /Library/Frameworks/R.framework/Resources/bin/R CMD build --keep-empty-dirs --no-resave-data surfaltr StartedAt: 2025-10-19 17:52:11 -0400 (Sun, 19 Oct 2025) EndedAt: 2025-10-19 17:52:24 -0400 (Sun, 19 Oct 2025) EllapsedTime: 12.1 seconds RetCode: 0 Status: OK PackageFile: surfaltr_1.15.0.tar.gz PackageFileSize: 3.052 MiB