Package: surfaltr Version: 1.15.0 Command: rm -rf surfaltr.buildbin-libdir && mkdir surfaltr.buildbin-libdir && /Users/biocbuild/BBS/utils/build-universal.sh surfaltr_1.15.0.tar.gz /Library/Frameworks/R.framework/Resources/bin/R surfaltr.buildbin-libdir StartedAt: 2025-10-19 23:18:19 -0400 (Sun, 19 Oct 2025) EndedAt: 2025-10-19 23:18:27 -0400 (Sun, 19 Oct 2025) EllapsedTime: 8.2 seconds RetCode: 0 Status: OK PackageFile: surfaltr_1.15.0.tgz PackageFileSize: 1.847 MiB