Package: supraHex Version: 1.45.1 Command: chmod a+r supraHex -R && F:\biocbuild\bbs-3.22-bioc\R\bin\R.exe CMD build --keep-empty-dirs --no-resave-data supraHex StartedAt: 2025-04-08 22:44:48 -0400 (Tue, 08 Apr 2025) EndedAt: 2025-04-08 22:45:12 -0400 (Tue, 08 Apr 2025) EllapsedTime: 24.0 seconds RetCode: 1 Status: ERROR PackageFile: None PackageFileSize: NA