Package: supersigs Version: 1.17.0 Command: /home/biocbuild/bbs-3.22-bioc/R/bin/R CMD INSTALL supersigs StartedAt: 2025-10-23 15:25:21 -0400 (Thu, 23 Oct 2025) EndedAt: 2025-10-23 15:25:53 -0400 (Thu, 23 Oct 2025) EllapsedTime: 32.2 seconds RetCode: 0 Status: OK