Package: supersigs Version: 1.17.0 Command: /Library/Frameworks/R.framework/Resources/bin/R CMD INSTALL supersigs StartedAt: 2025-10-23 15:26:55 -0400 (Thu, 23 Oct 2025) EndedAt: 2025-10-23 15:27:39 -0400 (Thu, 23 Oct 2025) EllapsedTime: 44.7 seconds RetCode: 0 Status: OK