Package: supersigs Version: 1.17.0 Command: /Library/Frameworks/R.framework/Resources/bin/R CMD check --install=check:supersigs.install-out.txt --library=/Library/Frameworks/R.framework/Resources/library --no-vignettes --timings supersigs_1.17.0.tar.gz StartedAt: 2025-10-25 00:41:32 -0400 (Sat, 25 Oct 2025) EndedAt: 2025-10-25 00:46:39 -0400 (Sat, 25 Oct 2025) EllapsedTime: 307.2 seconds RetCode: 0 Status: WARNINGS CheckDir: supersigs.Rcheck Warnings: 1