Package: supersigs Version: 1.17.0 Command: rm -rf supersigs.buildbin-libdir && mkdir supersigs.buildbin-libdir && /Users/biocbuild/BBS/utils/build-universal.sh supersigs_1.17.0.tar.gz /Library/Frameworks/R.framework/Resources/bin/R supersigs.buildbin-libdir StartedAt: 2025-10-24 02:01:28 -0400 (Fri, 24 Oct 2025) EndedAt: 2025-10-24 02:02:17 -0400 (Fri, 24 Oct 2025) EllapsedTime: 49.6 seconds RetCode: 0 Status: OK PackageFile: supersigs_1.17.0.tgz PackageFileSize: 5.416 MiB