Package: supersigs Version: 1.17.0 Command: /Library/Frameworks/R.framework/Resources/bin/R CMD build --keep-empty-dirs --no-resave-data supersigs StartedAt: 2025-10-23 17:58:44 -0400 (Thu, 23 Oct 2025) EndedAt: 2025-10-23 17:59:10 -0400 (Thu, 23 Oct 2025) EllapsedTime: 25.3 seconds RetCode: 0 Status: OK PackageFile: supersigs_1.17.0.tar.gz PackageFileSize: 2.597 MiB