Package: stPipe Version: 0.99.995 Command: /Library/Frameworks/R.framework/Resources/bin/R CMD check --install=check:stPipe.install-out.txt --library=/Library/Frameworks/R.framework/Resources/library --no-vignettes --timings stPipe_0.99.995.tar.gz StartedAt: 2025-10-20 02:06:03 -0400 (Mon, 20 Oct 2025) EndedAt: 2025-10-20 02:21:09 -0400 (Mon, 20 Oct 2025) EllapsedTime: 906.0 seconds RetCode: 0 Status: WARNINGS CheckDir: stPipe.Rcheck Warnings: 1