Package: stPipe Version: 0.99.995 Command: rm -rf stPipe.buildbin-libdir && mkdir stPipe.buildbin-libdir && /Users/biocbuild/BBS/utils/build-universal.sh stPipe_0.99.995.tar.gz /Library/Frameworks/R.framework/Resources/bin/R stPipe.buildbin-libdir StartedAt: 2025-10-17 04:18:07 -0400 (Fri, 17 Oct 2025) EndedAt: 2025-10-17 04:19:15 -0400 (Fri, 17 Oct 2025) EllapsedTime: 68.5 seconds RetCode: 0 Status: OK PackageFile: stPipe_0.99.995.tgz PackageFileSize: 7.365 MiB