Package: stJoincount Version: 1.11.0 Command: /home/biocbuild/R/R/bin/R CMD INSTALL stJoincount StartedAt: 2025-10-23 20:40:41 -0000 (Thu, 23 Oct 2025) EndedAt: 2025-10-23 20:41:58 -0000 (Thu, 23 Oct 2025) EllapsedTime: 76.9 seconds RetCode: 0 Status: OK