Package: stJoincount Version: 1.11.0 Command: F:\biocbuild\bbs-3.22-bioc\R\bin\R.exe CMD check --no-multiarch --install=check:stJoincount.install-out.txt --library=F:\biocbuild\bbs-3.22-bioc\R\library --no-vignettes --timings stJoincount_1.11.0.tar.gz StartedAt: 2025-08-15 08:29:31 -0400 (Fri, 15 Aug 2025) EndedAt: 2025-08-15 08:38:06 -0400 (Fri, 15 Aug 2025) EllapsedTime: 515.0 seconds RetCode: 0 Status: OK CheckDir: stJoincount.Rcheck Warnings: 0