Package: stJoincount Version: 1.11.0 Command: /home/biocbuild/bbs-3.22-bioc/R/bin/R CMD INSTALL stJoincount StartedAt: 2025-10-28 15:19:43 -0400 (Tue, 28 Oct 2025) EndedAt: 2025-10-28 15:20:39 -0400 (Tue, 28 Oct 2025) EllapsedTime: 55.6 seconds RetCode: 0 Status: OK