Package: stJoincount Version: 1.11.0 Command: /home/biocbuild/bbs-3.22-bioc/R/bin/R CMD build --keep-empty-dirs --no-resave-data --md5 stJoincount StartedAt: 2025-10-28 20:21:18 -0400 (Tue, 28 Oct 2025) EndedAt: 2025-10-28 20:22:36 -0400 (Tue, 28 Oct 2025) EllapsedTime: 78.1 seconds RetCode: 0 Status: OK PackageFile: stJoincount_1.11.0.tar.gz PackageFileSize: 2.673 MiB