Package: stJoincount Version: 1.11.0 Command: /Library/Frameworks/R.framework/Resources/bin/R CMD INSTALL stJoincount StartedAt: 2025-10-28 15:24:07 -0400 (Tue, 28 Oct 2025) EndedAt: 2025-10-28 15:25:27 -0400 (Tue, 28 Oct 2025) EllapsedTime: 79.7 seconds RetCode: 0 Status: OK