Package: stJoincount Version: 1.11.0 Command: rm -rf stJoincount.buildbin-libdir && mkdir stJoincount.buildbin-libdir && /Users/biocbuild/BBS/utils/build-universal.sh stJoincount_1.11.0.tar.gz /Library/Frameworks/R.framework/Resources/bin/R stJoincount.buildbin-libdir StartedAt: 2025-10-29 02:01:51 -0400 (Wed, 29 Oct 2025) EndedAt: 2025-10-29 02:03:15 -0400 (Wed, 29 Oct 2025) EllapsedTime: 84.3 seconds RetCode: 0 Status: OK PackageFile: stJoincount_1.11.0.tgz PackageFileSize: 2.702 MiB