Package: stJoincount Version: 1.11.0 Command: /Library/Frameworks/R.framework/Resources/bin/R CMD check --install=check:stJoincount.install-out.txt --library=/Library/Frameworks/R.framework/Resources/library --no-vignettes --timings stJoincount_1.11.0.tar.gz StartedAt: 2025-10-27 22:21:05 -0400 (Mon, 27 Oct 2025) EndedAt: 2025-10-27 22:23:35 -0400 (Mon, 27 Oct 2025) EllapsedTime: 150.7 seconds RetCode: 0 Status: OK CheckDir: stJoincount.Rcheck Warnings: 0