Package: stJoincount Version: 1.11.0 Command: /Library/Frameworks/R.framework/Resources/bin/R CMD build --keep-empty-dirs --no-resave-data stJoincount StartedAt: 2025-10-27 17:53:09 -0400 (Mon, 27 Oct 2025) EndedAt: 2025-10-27 17:53:43 -0400 (Mon, 27 Oct 2025) EllapsedTime: 33.4 seconds RetCode: 0 Status: OK PackageFile: stJoincount_1.11.0.tar.gz PackageFileSize: 2.672 MiB