Package: ssrch Version: 1.25.0 Command: /Library/Frameworks/R.framework/Resources/bin/R CMD check --install=check:ssrch.install-out.txt --library=/Library/Frameworks/R.framework/Resources/library --no-vignettes --timings ssrch_1.25.0.tar.gz StartedAt: 2025-10-03 00:54:57 -0400 (Fri, 03 Oct 2025) EndedAt: 2025-10-03 00:55:37 -0400 (Fri, 03 Oct 2025) EllapsedTime: 40.1 seconds RetCode: 0 Status: OK CheckDir: ssrch.Rcheck Warnings: 0